BEGIN:VCALENDAR
VERSION:2.0
PRODID:-//HOB i RAUM - ECPv4.6.13//NONSGML v1.0//EN
CALSCALE:GREGORIAN
METHOD:PUBLISH
X-WR-CALNAME:HOB i RAUM
X-ORIGINAL-URL:http://www.hobiraum.at
X-WR-CALDESC:Veranstaltungen für HOB i RAUM
BEGIN:VEVENT
DTSTART;TZID=Europe/Vienna:20250913T200000
DTEND;TZID=Europe/Vienna:20250913T223000
DTSTAMP:20260420T212402
CREATED:20250216T111616Z
LAST-MODIFIED:20250216T111616Z
UID:3337-1757793600-1757802600@www.hobiraum.at
SUMMARY:ABARGA SOUNDSYSTEM LÄDT EIN
DESCRIPTION:Copyright: Abarga\nChristian Koch und Bernhard Weiss laden euch ein:\nAbtanzen\, Lauschen\, Träumen – ABARGA Soundsystem verweben live Improvisationen auf einer Vielzahl an Instrumenten aus aller Welt mit einem Worldbeat DJ Set mit viel Percussion\, Oberton- und Kehlkopfgesang! \nEkstatisches Tanzen ist herzlich willkommen! \nHandpan\, Djembe\, Doundouns\, Gongs\, Klangschalen\, Kamelen Goni\, Shrutibox\, Waterphone und vieles mehr kommt zum Klingen – es wird ein Fest des Rhythmus’ und des Klanges! \nEintritt: VVK: € 20\, AK: € 25\ntickets@hobiraum.at oder 0676/9178460 \n
URL:http://www.hobiraum.at/event/abarga-soundsystem-laedt-ein/
LOCATION:Hanuschgasse 1/28A\, Bad Vöslau\, 2540\, Österreich
CATEGORIES:Adventures in rhythm and sound
ATTACH;FMTTYPE=image/png:http://www.hobiraum.at/wp-content/uploads/2025/02/ABARGA-©-ABARGA.png
END:VEVENT
END:VCALENDAR