BEGIN:VCALENDAR
VERSION:2.0
PRODID:-//HOB i RAUM - ECPv4.6.13//NONSGML v1.0//EN
CALSCALE:GREGORIAN
METHOD:PUBLISH
X-WR-CALNAME:HOB i RAUM
X-ORIGINAL-URL:http://www.hobiraum.at
X-WR-CALDESC:Veranstaltungen für HOB i RAUM
BEGIN:VEVENT
DTSTART;TZID=Europe/Vienna:20250301T200000
DTEND;TZID=Europe/Vienna:20250301T223000
DTSTAMP:20260422T103247
CREATED:20240912T101900Z
LAST-MODIFIED:20240912T101900Z
UID:3248-1740859200-1740868200@www.hobiraum.at
SUMMARY:ACCORDION-SAXOPHONE PROJECT
DESCRIPTION:Copyright: GERNOT GLEISS\nRudi Katholnig: Accordion\nHans-Peter Steiner: Saxophone \nStilsicher zwischen Tango nuevo\, New Musette\, Jazz und „World“ angesiedelt\, kreieren die beiden Musiker einen atypischen Sound jenseits von dem\, was man sich von den beiden Instrumenten erwartet. Sozusagen: „Crossover“. Diese spezielle Klangfarbe zeichnet auch ihre Eigenkompositionen und Improvisationen aus. \nIm aktuellen Programm präsentiert das Duo neben  Eigenkompositionen auch zahlreiche Bearbeitungen\, u.a. von Astor Piazzolla\, Dave Brubeck\, Richard Galliano\, Hermeto Pascoal\, bis hin zum Rock und Pop. \nEintritt: VVK: € 25\, AK: € 30\ntickets@hobiraum.at oder 0676/9178460 \n
URL:http://www.hobiraum.at/event/accordion-saxophone-project/
LOCATION:Hanuschgasse 1/28A\, Bad Vöslau\, 2540\, Österreich
CATEGORIES:Jazz,World Music
ATTACH;FMTTYPE=image/jpeg:http://www.hobiraum.at/wp-content/uploads/2024/09/ACCORDION-SAXOPHONE-PROJECT-@-Gernot-Gleiss.jpg
END:VEVENT
END:VCALENDAR