BEGIN:VCALENDAR
VERSION:2.0
PRODID:-//HOB i RAUM - ECPv4.6.13//NONSGML v1.0//EN
CALSCALE:GREGORIAN
METHOD:PUBLISH
X-WR-CALNAME:HOB i RAUM
X-ORIGINAL-URL:http://www.hobiraum.at
X-WR-CALDESC:Veranstaltungen für HOB i RAUM
BEGIN:VEVENT
DTSTART;TZID=Europe/Vienna:20251204T200000
DTEND;TZID=Europe/Vienna:20251204T223000
DTSTAMP:20260420T232907
CREATED:20240912T104940Z
LAST-MODIFIED:20240912T104940Z
UID:3397-1764878400-1764887400@www.hobiraum.at
SUMMARY:CHRIS NEUSCHMID & BAND
DESCRIPTION:Copyright: ZOE GOLDSTEIN\nChris Neuschmid: Vocals\, Guitar\nBenny Omerzell: Keys\nJoJo Lackner: Bass\nPhilipp Kopmajer: Drums\, Vocals \nMit seinem neuen Album „Ain’t Gonna Look Back“ präsentiert Chris Neuschmid eine packende Mischung aus Alternative\, Funk\, Blues und Psychedelic Rock. Die elf Tracks der LP zeichnen sich durch tiefgründige Texte und emotionale Reflexionen gesellschaftlicher Entwicklungen aus\, die Chris während des Schreibens bewegt haben. \nNeun der Songs stammen aus der Feder von Chris selbst. Ergänzt wird das Album durch zwei meisterhaft interpretierte Blues-Klassiker: „Come On in My Kitchen“ von Robert Johnson und „Rollin’ and Tumblin’“ von Hambone Willie Newbern. Diese Stücke zeigen seine tiefe Verwurzelung im Blues und seine Fähigkeit\, Traditionelles mit Modernem zu verbinden. \nChris Neuschmid ist ein vielseitiger österreichischer Musiker und Produzent\, der sich in den Genres Alternative Rock\, Soul\, Blues und Jazz einen Namen gemacht hat. Als Sänger\, Gitarrist und Bassist ist er bekannt für sein aktuelles Album „Ain’t Gonna Look Back“\, das am 6. Juni 2024 unter dem Label „Only Up Music“ veröffentlicht wurde. Das Album zeigt Chris’ musikalische Vielseitigkeit und sein Verständnis für verschiedene Musikstile.\nNeben seiner Solokarriere ist Chris ein gefragter Live- und Studiomusiker und arbeitet regelmäßig mit Künstlern und Bands wie Shake Stew\, Lylit\, SK Invitational sowie Fabian Rucker 5 zusammen. Zudem ist er als Komponist und Musiker am Theater tätig\, aktuell beim „Jedermann“ der Salzburger Festspiele und an der Oper Graz in der Produktion „Mein Lieblingstier heißt Winter“. Chris Neuschmid vereint musikalische Vielseitigkeit mit einer tiefen Leidenschaft für seine Kunst und ist dadurch zu einem festen Bestandteil der österreichischen und internationalen Musikszene geworden. \nEintritt: VVK: € 25\, AK: € 30\ntickets@hobiraum.at oder 0676/9178460 \n
URL:http://www.hobiraum.at/event/chris-neuschmid-band/
LOCATION:Hanuschgasse 1/28A\, Bad Vöslau\, 2540\, Österreich
CATEGORIES:Alternative,Blues,Funk,Psychodelic Rock
ATTACH;FMTTYPE=image/jpeg:http://www.hobiraum.at/wp-content/uploads/2024/07/Chris-Neuschmid-Band-@-ZOE-GOLDSTEIN.jpg
END:VEVENT
END:VCALENDAR