BEGIN:VCALENDAR
VERSION:2.0
PRODID:-//HOB i RAUM - ECPv4.6.13//NONSGML v1.0//EN
CALSCALE:GREGORIAN
METHOD:PUBLISH
X-WR-CALNAME:HOB i RAUM
X-ORIGINAL-URL:http://www.hobiraum.at
X-WR-CALDESC:Veranstaltungen für HOB i RAUM
BEGIN:VEVENT
DTSTART;TZID=Europe/Vienna:20250110T200000
DTEND;TZID=Europe/Vienna:20250110T223000
DTSTAMP:20260420T215300
CREATED:20240912T104711Z
LAST-MODIFIED:20240912T104711Z
UID:3203-1736539200-1736548200@www.hobiraum.at
SUMMARY:DUO DEELINDE & EMILIANO SAMPAIO
DESCRIPTION:Copyright: REITHOFER MEDIA\nDeeLinde: Cello\, Vocals\nEmiliano Sampaio: Guitar\, Trombone \ndeeLinde ist eine steirische Musikerin\, die für Vielseitigkeit bekannt ist. Neben ihren zahlreichen Projekten als Cellistin\, Instrumentalistin und Sängerin\, ist sie eine begehrte Referentin auf Workshops. Ihre Schwerpunkte sind dabei das Ensemblespiel traditioneller Tanzmusik\, sowie die in Österreich beheimatete Vokalform des Jodelns. \nEmiliano Sampaio stammt aus Brasilien und hat sich 2012 in Österreich niedergelassen\, wo sich seine künstlerische Praxis als Gitarrist\, Posaunist\, Komponist und Dirigent mit seiner wissenschaftlichen Produktion vereint\, was zu einer farbenfrohen Klangproduktion zwischen kleiner und großer Ensemblemusik führt. \nDieses Duo ist das Konglomerat vorerst beinahe konträrer Zugänge\, die sich in einem äußerst exotischen Ergebnis widerspiegeln. DeeLinde und Emiliano Sampaio arbeiten im ständigen Crossover zwischen brasilianischer Musik\, österreichischer Volksmusik\, Jazz und klassischen Traditionen. Das Ergebnis ist Volksmusik in ihrer besten Essenz\, wo Melodie\, Harmonie und Rhythmus organisch zu einer musikalischen Botschaft verschmelzen. \nEintritt: VVK: € 25\, AK: € 30\ntickets@hobiraum.at oder 0676/9178460 \n
URL:http://www.hobiraum.at/event/duo-deelinde-emiliano-sampaio/
LOCATION:Hanuschgasse 1/28A\, Bad Vöslau\, 2540\, Österreich
CATEGORIES:Folk Brasil Austria
ATTACH;FMTTYPE=image/jpeg:http://www.hobiraum.at/wp-content/uploads/2024/06/Duo-deeLinde-Emiliano-Sampaio-@-reithofer-media.jpg
END:VEVENT
END:VCALENDAR