BEGIN:VCALENDAR
VERSION:2.0
PRODID:-//HOB i RAUM - ECPv4.6.13//NONSGML v1.0//EN
CALSCALE:GREGORIAN
METHOD:PUBLISH
X-WR-CALNAME:HOB i RAUM
X-ORIGINAL-URL:http://www.hobiraum.at
X-WR-CALDESC:Veranstaltungen für HOB i RAUM
BEGIN:VEVENT
DTSTART;TZID=Europe/Vienna:20251113T200000
DTEND;TZID=Europe/Vienna:20251113T223000
DTSTAMP:20260420T213248
CREATED:20250923T165440Z
LAST-MODIFIED:20250923T165440Z
UID:3371-1763064000-1763073000@www.hobiraum.at
SUMMARY:FRÜHLINGSGEFÜHLE IM HERBST - THEATERGRUPPE KONTER LÄDT EIN
DESCRIPTION:Copyright: GERHARD MALY\nAlte & neue Geschichten von Karl Valentin & Liesl Karlstadt\nMit Nicole Gerfertz-Schiefer und Franz Schiefer\nFür dieses komödiantische Theater-Kabarett schlüpfen Franz Schiefer und Nicole Gerfertz- Schiefer erneut in ihre Paraderollen als Karl Valentin und Liesl Karlstadt. Sie bringen bekannte und weniger bekannte Sketche des brillanten Komikerduos auf die Bühne und verknüpfen diese mit Szenen aus dem Leben der beiden. Und so kommt es\, wie es kommen muss: Irgendwie dreht sich auf einmal alles um die Liebe und das Älterwerden\, um Frühlingsgefühle im Herbst… \nFrühlingen Sie ein wenig mit uns – und das mitten im Herbst! \n“Laukühl säuselt der Herbstwind durch die Luft – es herbstelt – welch saudummes Wort.\nBeim Frühling wäre es noch dümmer – da hieße es: frühlingt.”\n– Karl Valentin \nEine Produktion der Theatergruppe KONTER (www.konter.at) \nEintritt: VVK: € 23\, AK: € 25\ntickets@hobiraum.at oder 0676/9178460 \n
URL:http://www.hobiraum.at/event/fruehlingsgefuehle-im-herbst-theatergruppe-konter-laedt-ein-2/
LOCATION:Hanuschgasse 1/28A\, Bad Vöslau\, 2540\, Österreich
CATEGORIES:Theater
ATTACH;FMTTYPE=image/jpeg:http://www.hobiraum.at/wp-content/uploads/2025/09/Sujetfoto_KONTER_Frühlingsgefühle_Querformat_CGerhardMaly.jpg
END:VEVENT
END:VCALENDAR