BEGIN:VCALENDAR
VERSION:2.0
PRODID:-//HOB i RAUM - ECPv4.6.13//NONSGML v1.0//EN
CALSCALE:GREGORIAN
METHOD:PUBLISH
X-WR-CALNAME:HOB i RAUM
X-ORIGINAL-URL:http://www.hobiraum.at
X-WR-CALDESC:Veranstaltungen für HOB i RAUM
BEGIN:VEVENT
DTSTART;TZID=Europe/Vienna:20250111T200000
DTEND;TZID=Europe/Vienna:20250111T223000
DTSTAMP:20260420T202238
CREATED:20240912T101450Z
LAST-MODIFIED:20240912T101450Z
UID:2845-1736625600-1736634600@www.hobiraum.at
SUMMARY:HARRY SOKAL "GROOVE UNLIMITED"
DESCRIPTION:Copyright: Annika Ulla Schmid\nHarry Sokal: Sax\nJojo Lackner: E-Bass\nHerbert Pirker: Drums \nDie Jubiläumskonzerte zur Tour „70 Jahre Harry Sokal“ werden ein besonderes Highlight für Fans des renommierten Saxophonisten sein. Sokal\, der seit Jahrzehnten zu den führenden Jazzmusikern Europas zählt\, wird bei diesem Konzert von zwei herausragenden Musikern begleitet: Jojo Lackner am Bass und Herbert Pirker am Schlagzeug. \nDas Trio\, das den Namen „Groove Unlimited“ trägt\, verspricht einen mitreißenden Auftritt voller Energie und musikalischer Virtuosität. Zusammen werden sie ein neues Projekt präsentieren\, das die Grenzen des Jazz auslotet und mit Elementen aus Funk\, Rock und Fusion experimentiert. \nJojo Lackner\, bekannt für seine beeindruckende Spieltechnik und sein einfallsreiches Bassspiel\, wird dem Trio einen soliden Groove verleihen und für einen kraftvollen Rhythmus sorgen. Herbert Pirker\, ein gefragter Schlagzeuger\, wird mit seinem dynamischen Spiel und seinem feinen Gespür für Nuancen das Trio komplettieren. \nDie Zuschauer können sich auf eine packende Performance freuen\, in der die drei Musiker ihr Können voll ausschöpfen und das Publikum mitreißen werden. Es wird eine einzigartige Mischung aus virtuosen Soli\, mitreißenden Improvisationen und eingängigen Melodien geboten\, die die Zuhörer in ihren Bann ziehen wird. Die Jubiläums Tour Konzerte „70 Jahre Harry Sokal“ mit dem neuen Projekt Groove Unlimited sind ein absolutes Muss für alle Jazzliebhaber und Fans von energiegeladener Livemusik. \nEintritt: VVK: € 25\, AK: € 30\ntickets@hobiraum.at oder 0676/9178460 \n
URL:http://www.hobiraum.at/event/harry-sokal-groove-unlimited/
LOCATION:Hanuschgasse 1/28A\, Bad Vöslau\, 2540\, Österreich
CATEGORIES:Funk,Fusion,Jazz,Rock
ATTACH;FMTTYPE=image/jpeg:http://www.hobiraum.at/wp-content/uploads/2024/06/Pressefoto_10_s.jpg
END:VEVENT
END:VCALENDAR