BEGIN:VCALENDAR
VERSION:2.0
PRODID:-//HOB i RAUM - ECPv4.6.13//NONSGML v1.0//EN
CALSCALE:GREGORIAN
METHOD:PUBLISH
X-WR-CALNAME:HOB i RAUM
X-ORIGINAL-URL:http://www.hobiraum.at
X-WR-CALDESC:Veranstaltungen für HOB i RAUM
BEGIN:VEVENT
DTSTART;TZID=Europe/Vienna:20251129T200000
DTEND;TZID=Europe/Vienna:20251129T223000
DTSTAMP:20260421T005837
CREATED:20240912T132921Z
LAST-MODIFIED:20251116T092459Z
UID:3394-1764446400-1764455400@www.hobiraum.at
SUMMARY:LEELAH SKY
DESCRIPTION:Copyright: HEED\nChris Kisielewsky: Vocals\, Keys\, Composing\nStephan Gleixner: Percussion\, Vocals\, Beatbox\nBernd Alfanz: Guitar \nsoulicious earfood \nLEELAH SKY schafft es\, Soul\, Pop\, Blues\, Rock und Jazz so zu kombinieren\, dass die Frage nach dem Stil obsolet wird. Die Salzburger Sängerin und Pianistin setzt dabei auf powervoll-fragile Stimmakrobatik und dampfende Beats\, auf geschmackvoll arrangierte und eingängige Eigenkompositionen\, die die Zuhörer dort berühren\, wo Musik berühren soll – im Herzen. \nMit ihrer ‚pocketrockband‘ mit Gitarre und Schlagzeug zaubert die Singer-Songwriterin mit ukrainischen Wurzeln\, die u.a. schon mit Bobby McFerrin\, Christian Kolonovits\, Richard Österreicher und Alexander Goebel zusammenarbeitete\, gemeinsam mit ihren multiinstrumentalen Partnern ein faszinierendes musikalisches Akustik-Feuerwerk auf die Bühne\, das seinesgleichen sucht. \nEintritt: VVK: € 20\, AK: € 25\ntickets@hobiraum.at oder 0676/9178460 \n
URL:http://www.hobiraum.at/event/leelah-sky/
LOCATION:Hanuschgasse 1/28A\, Bad Vöslau\, 2540\, Österreich
CATEGORIES:Blues,Jazz,Pop,Rock
ATTACH;FMTTYPE=image/jpeg:http://www.hobiraum.at/wp-content/uploads/2024/07/LEELAH-SKY-@-HEED.jpg
END:VEVENT
END:VCALENDAR