BEGIN:VCALENDAR
VERSION:2.0
PRODID:-//HOB i RAUM - ECPv4.6.13//NONSGML v1.0//EN
CALSCALE:GREGORIAN
METHOD:PUBLISH
X-WR-CALNAME:HOB i RAUM
X-ORIGINAL-URL:http://www.hobiraum.at
X-WR-CALDESC:Veranstaltungen für HOB i RAUM
BEGIN:VEVENT
DTSTART;TZID=Europe/Vienna:20250517T200000
DTEND;TZID=Europe/Vienna:20250517T223000
DTSTAMP:20260420T202718
CREATED:20240929T135006Z
LAST-MODIFIED:20250514T172254Z
UID:3319-1747512000-1747521000@www.hobiraum.at
SUMMARY:LILI MAE SINGS SONGS OF LOVE (ABGESAGT!)
DESCRIPTION:LEIDER MÜSSEN WIR DIESE VERANSTALTUNG ABSAGEN!\n
URL:http://www.hobiraum.at/event/lili-mae-sings-songs-of-love-srb-ukr/
LOCATION:Hanuschgasse 1/28A\, Bad Vöslau\, 2540\, Österreich
CATEGORIES:Jazz
ATTACH;FMTTYPE=image/jpeg:http://www.hobiraum.at/wp-content/uploads/2024/09/Lili-Mae_s-©-Andreas-Müller.jpg
END:VEVENT
END:VCALENDAR