BEGIN:VCALENDAR
VERSION:2.0
PRODID:-//HOB i RAUM - ECPv4.6.13//NONSGML v1.0//EN
CALSCALE:GREGORIAN
METHOD:PUBLISH
X-WR-CALNAME:HOB i RAUM
X-ORIGINAL-URL:http://www.hobiraum.at
X-WR-CALDESC:Veranstaltungen für HOB i RAUM
BEGIN:VEVENT
DTSTART;TZID=Europe/Vienna:20250522T200000
DTEND;TZID=Europe/Vienna:20250522T223000
DTSTAMP:20260420T173510
CREATED:20240912T100910Z
LAST-MODIFIED:20240912T100910Z
UID:3322-1747944000-1747953000@www.hobiraum.at
SUMMARY:MARIA MUHAR "STORNO"
DESCRIPTION:Copyright: Apollonia Theresa Bitzan\n\n“Mit böser Metaphorik\, präziser Dramaturgie und beeindruckender Bühnenpräsenz gelingt Maria Muhar im kontrastreichen Kontext eine ganz eigene Qualität fantasievoller und wirkungstreffsicherer Komik.”\n– Jurybegründung zur Verleihung des Förderpreises des Österreichischen Kabarettpreises \n\nDauernd is irgendwas! Zwischen Timelines\, Deadlines und Tiervideos bleibt gerade noch Zeit\, dem AMS-Betreuer falsche Hoffnungen zu machen. Maria Muhar ist gereizt. Das Letzte\, was sie jetzt gebrauchen kann\, ist\, auf den Nachwuchs ihrer Freundin aufzupassen und sich von einem obergscheiten Volksschüler die Welt erklären zu lassen. Im Laufe des Abends stauen sich substanzielle Fragen auf: Wie geht Elternschaft in der Apokalypse? Warum ist Red Bull ein linkes Getränk? Hängen beim Urologen Kinderzeichnungen an der Wand? Und wo bleibt eigentlich ihre Freundin? Das Wichtigste ist\, jetzt nicht einzuschlafen. Denn wer heutzutage einschläft\, nützt nur der ÖVP. \nText & Performance: Maria Muhar\nRegie: Sabine Muhar \nMaria Muhar *1986 in Wien\, Lehrausbildung zur Köchin\, danach Studium an der Akademie der bildenden Künste und am Institut für Sprachkunst. Sie schreibt Prosa\, Lyrik und unterschiedliche Bühnentexte. 2022 erschien ihr Debütroman Lento Violento; im selben Jahr feierte ihr erstes Kabarettprogramm Storno Premiere\, das 2023 mit dem Österreichischen Kabarettpreis (Förderpreis) ausgezeichnet wird. \nStipendien & Preise \n\n2023: Österreichischer Kabarettpreis in der Kategorie Förderpreis\, Dramatikerinnen-Stipendium der Literar Mechana\n2022:  Arbeitsstipendium im Bereich Theater (MA7)\, Shortlist-Nominierung Rauriser Literaturpreis\n2021: Arbeitsstipendium im Bereich Kabarett (BMKÖS)\n\nEintritt: VVK: € 25\, AK: € 30\ntickets@hobiraum.at oder 0676/9178460 \n
URL:http://www.hobiraum.at/event/maria-muhar-storno/
LOCATION:Hanuschgasse 1/28A\, Bad Vöslau\, 2540\, Österreich
CATEGORIES:Kabarett
ATTACH;FMTTYPE=image/jpeg:http://www.hobiraum.at/wp-content/uploads/2024/07/Kabarettpreis©ApolloniaTheresaBitzan.jpg
END:VEVENT
END:VCALENDAR