BEGIN:VCALENDAR
VERSION:2.0
PRODID:-//HOB i RAUM - ECPv4.6.13//NONSGML v1.0//EN
CALSCALE:GREGORIAN
METHOD:PUBLISH
X-WR-CALNAME:HOB i RAUM
X-ORIGINAL-URL:http://www.hobiraum.at
X-WR-CALDESC:Veranstaltungen für HOB i RAUM
BEGIN:VEVENT
DTSTART;TZID=Europe/Vienna:20180602T200000
DTEND;TZID=Europe/Vienna:20180602T233000
DTSTAMP:20260420T072223
CREATED:20180328T130102Z
LAST-MODIFIED:20180329T160619Z
UID:722-1527969600-1527982200@www.hobiraum.at
SUMMARY:MATTHIAS KEMPF "SOLO"
DESCRIPTION:Nach seinem fulminanten Auftritt beim winterfest 2017 und auf vielfachen Wunsch begeisterter Zuhörer\, konnten wir Matthias Kempf für einen seiner seltenen Soloauftritte für den HOB i RAUM gewinnen. \nDie Unmittelbarkeit im Ausdruck\, die Bildhaftigkeit\, der Dialekt\, das Wienerische und nicht zuletzt generell Lieder in deutscher Sprache sind anno 2018 hierzulande (und auch darüber hinaus) wieder sehr gefragt. Man muss nicht weit zurückblicken\, zehn bis elf Jahre genügen\, um festzustellen\, dass alles anders war\, Austropop ein Unwort und Dialektlieder hierzulande (und auch darüber hinaus) rar. \nEiner\, dem das definitiv egal war ist Matthias Kempf\, der 2006 mit seinem Album „Leb Los!“ der brach liegenden Szene einen Anstoß gab. „Ausdruckspop“ nannte er es und es ist immer wieder erstaunlich\, wie sehr Kempf imstande ist bei Live-Konzerten in den Liedern aufzugehen\, Stimmung aufzubauen und Glanz zu verbreiten. Nicht nur eigene Lieder stehen dabei am Programm\, sondern auch wunderbare Danzer-Interpretationen\, die man einfach gehört haben muss. Und überhaupt\, schon lange gilt folgende simple Regel: Ein Danzer-Abend ohne Kempf wäre wie ein “Best of Danzer Album” ohne „Jö schau“. Nicht ohne Grund\, Danzer war es nämlich auch\, der Kempf so sehr inspirierte\, dass er zur Gitarre griff und Musiker wurde. \n
URL:http://www.hobiraum.at/event/matthias-kempf-solo/
LOCATION:Hanuschgasse 1/28A\, Bad Vöslau\, 2540\, Österreich
CATEGORIES:Konzert
ATTACH;FMTTYPE=image/jpeg:http://www.hobiraum.at/wp-content/uploads/2015/12/Matthias-Kempf.jpg
END:VEVENT
END:VCALENDAR