BEGIN:VCALENDAR
VERSION:2.0
PRODID:-//HOB i RAUM - ECPv4.6.13//NONSGML v1.0//EN
CALSCALE:GREGORIAN
METHOD:PUBLISH
X-WR-CALNAME:HOB i RAUM
X-ORIGINAL-URL:http://www.hobiraum.at
X-WR-CALDESC:Veranstaltungen für HOB i RAUM
BEGIN:VEVENT
DTSTART;TZID=Europe/Vienna:20250116T200000
DTEND;TZID=Europe/Vienna:20250116T223000
DTSTAMP:20260420T214836
CREATED:20240912T125503Z
LAST-MODIFIED:20250115T122511Z
UID:3206-1737057600-1737066600@www.hobiraum.at
SUMMARY:S.P.E (ABGESAGT!)
DESCRIPTION:LEIDER MÜSSEN WIR DIESE VERANSTALTUNG ABSAGEN!\n
URL:http://www.hobiraum.at/event/s-p-e/
LOCATION:Hanuschgasse 1/28A\, Bad Vöslau\, 2540\, Österreich
CATEGORIES:Jazz & Improvisationsmusik
ATTACH;FMTTYPE=image/jpeg:http://www.hobiraum.at/wp-content/uploads/2024/06/S.P.E-@-SIMON-REITHOFER.jpg
END:VEVENT
END:VCALENDAR