BEGIN:VCALENDAR
VERSION:2.0
PRODID:-//HOB i RAUM - ECPv4.6.13//NONSGML v1.0//EN
CALSCALE:GREGORIAN
METHOD:PUBLISH
X-WR-CALNAME:HOB i RAUM
X-ORIGINAL-URL:http://www.hobiraum.at
X-WR-CALDESC:Veranstaltungen für HOB i RAUM
BEGIN:VEVENT
DTSTART;TZID=Europe/Vienna:20251205T200000
DTEND;TZID=Europe/Vienna:20251205T223000
DTSTAMP:20260421T020459
CREATED:20240912T132741Z
LAST-MODIFIED:20240915T122211Z
UID:3400-1764964800-1764973800@www.hobiraum.at
SUMMARY:TEONA MOSIA
DESCRIPTION:Copyright: Slaven Fanfani\nTeona Mosia: Vocals\nNikola Stanosevic: Klavier\nNavid Djawadi: Kontrabass\nJörg Mikula: Schlagzeug \nDie in Georgien geborene und in Wien lebende Jazzsängerin Teona Mosia ist mit der Volksmusik ihrer Heimat aufgewachsen. Später entdeckte sie den Jazz und die Improvisation für sich und studierte in Wien Jazzgesang. Teona kombiniert die beiden Genres auf sehr faszinierende und ausdrucksstarke Weise und hat mit ihrer Musik einen einzigartigen Sound entwickelt. \nIm Zusammenspiel mit dem serbischen Pianisten Nikola Stanosevic ist ein neues Musikprojekt entstanden. Das Repertoire beinhaltet Arrangements von traditionellen georgischen Volksliedern sowie neu interpretierte Jazz-Standards. Kraftvolle Rhythmen sowie mystische und lyrische Klänge aus Georgien sind zu hören. \nEintritt: VVK: € 25\, AK: € 30\ntickets@hobiraum.at oder 0676/9178460 \n
URL:http://www.hobiraum.at/event/teona-mosia/
LOCATION:Hanuschgasse 1/28A\, Bad Vöslau\, 2540\, Österreich
CATEGORIES:Georgischer Jazz
ATTACH;FMTTYPE=image/jpeg:http://www.hobiraum.at/wp-content/uploads/2024/07/Teona-Mosia_s-@-Slaven-Fanfani.jpg
END:VEVENT
END:VCALENDAR