BEGIN:VCALENDAR
VERSION:2.0
PRODID:-//HOB i RAUM - ECPv4.6.13//NONSGML v1.0//EN
CALSCALE:GREGORIAN
METHOD:PUBLISH
X-WR-CALNAME:HOB i RAUM
X-ORIGINAL-URL:http://www.hobiraum.at
X-WR-CALDESC:Veranstaltungen für HOB i RAUM
BEGIN:VEVENT
DTSTART;TZID=Europe/Vienna:20180427T200000
DTEND;TZID=Europe/Vienna:20180427T233000
DTSTAMP:20260419T171439
CREATED:20180328T122532Z
LAST-MODIFIED:20180418T124751Z
UID:705-1524859200-1524871800@www.hobiraum.at
SUMMARY:ULLI BÄER MIT ULLI WINTER UND PAUL PESCHKA
DESCRIPTION:LEIDER ABGESAGT \n
URL:http://www.hobiraum.at/event/ulli-baeer-mit-ulli-winter-und-paul-peschka/
LOCATION:Hanuschgasse 1/28A\, Bad Vöslau\, 2540\, Österreich
END:VEVENT
END:VCALENDAR