BEGIN:VCALENDAR
VERSION:2.0
PRODID:-//HOB i RAUM - ECPv4.6.13//NONSGML v1.0//EN
CALSCALE:GREGORIAN
METHOD:PUBLISH
X-WR-CALNAME:HOB i RAUM
X-ORIGINAL-URL:https://www.hobiraum.at
X-WR-CALDESC:Veranstaltungen für HOB i RAUM
BEGIN:VEVENT
DTSTART;TZID=Europe/Vienna:20191114T193000
DTEND;TZID=Europe/Vienna:20191114T235500
DTSTAMP:20260420T110607
CREATED:20190624T085357Z
LAST-MODIFIED:20191024T063757Z
UID:1185-1573759800-1573775700@www.hobiraum.at
SUMMARY:AFTER HOURS – JAM-SESSIONS IM HOB I RAUM
DESCRIPTION:Hosted by: Swinging Leaders \nDie Swinging Leaders spielen Jazzstandards aus verschiedenen Epochen\, die auch Nicht-Insidern ins Ohr gehen. Das Repertoire umfasst einen guten Mix aus Blues\, Latin und Swing\, sowie aus schnellen und langsamen Stücken. \nMitglieder von Swinging Leaders:\nAlexander Götzinger\, Keyboard\nPeter Pichler\, Saxophon\nWolfgang Mathera\, Schlagzeug\nKlaus Wegenkittl\, Saxophon\nPeter Natterer „nag“\, Saxophon\nNorbert Zimmermann\, Saxophon\nRichard Barnert\, Bass\nUlli Pesendorfer\, Schlagzeug\nKonrad Pesendorfer\, Gitarre \nWir freuen uns über viele Musiker\, die sich an dieser Session beteiligen möchten und natürlich über möglichst viel Publikum! \n
URL:https://www.hobiraum.at/event/after-hours-jam-sessions-im-hob-i-raum-14/
LOCATION:Hanuschgasse 1/28A\, Bad Vöslau\, 2540\, Österreich
CATEGORIES:Jam-Session
ATTACH;FMTTYPE=image/jpeg:https://www.hobiraum.at/wp-content/uploads/2019/01/Foto-für-Jam-Session.jpg
END:VEVENT
END:VCALENDAR