BEGIN:VCALENDAR
VERSION:2.0
PRODID:-//HOB i RAUM - ECPv4.6.13//NONSGML v1.0//EN
CALSCALE:GREGORIAN
METHOD:PUBLISH
X-WR-CALNAME:HOB i RAUM
X-ORIGINAL-URL:https://www.hobiraum.at
X-WR-CALDESC:Veranstaltungen für HOB i RAUM
BEGIN:VEVENT
DTSTART;TZID=Europe/Vienna:20240920T200000
DTEND;TZID=Europe/Vienna:20240920T223000
DTSTAMP:20260421T093704
CREATED:20230906T182534Z
LAST-MODIFIED:20240630T122829Z
UID:2822-1726862400-1726871400@www.hobiraum.at
SUMMARY:BERTL MAYER QUARTETT
DESCRIPTION:Copyright: HOB i RAUM\nBertl Mayer: Mundharmonika\nChristian Havel: Gitarre\nJoschi Schneeberger: Kontrabass\nToni Mühlhofer: Percussion \n\nDer Wiener Bertl Mayer ist einer der wenigen Jazzmusiker\, die es an der chromatischen Mundharmonika zur Perfektion gebracht haben. Dem gefühlvollen Geschichtenerzähler\, dem die punktgenau phrasierten Melodiebögen ganz leicht von den Lippen zu gehen scheinen\, hört man einfach gerne zu. Diese Vorzüge konnte er schon mit einer Vielzahl  musikalischer Partner in den unterschiedlichsten Projekten und Genres zeigen\, die von Jazz über brasilianische Musik bis in Bereiche der zeitgenössischen Musik führen. (CONCERTOMAGAZIN) \n\nMit ihm werden  drei ausgewiesene Meister ihres Faches zu hören sein:\nCHRISTIAN HAVEL\, Gitarre\, JOSCHI SCHNEEBERGER am Kontrabass\, TONI MÜHLHOFER\, Percussion\, drei Fixpunkte der österreichischen Jazzszene mit internationaler Reputation\, die mit ihrer unbestechlichen Groove eindrucksvoll Entspanntheit und Präzision zu verbinden wissen. \nElegant  swingend\, mit lyrischen Zwischentönen und Spontanität bringen sie ihre höchstpersönlichen Interpretationen von Klassikern aus der Tradition des Modern Jazz\, wie auch so manche Originalkomposition zum Klingen. Leicht bekömmlich\, mit hohem musikalischen Anspruch! \nEintritt: freie Spende\ntickets@hobiraum.at oder 0676/9178460. \n
URL:https://www.hobiraum.at/event/bertl-mayer-quartett-3/
LOCATION:Hanuschgasse 1/28A\, Bad Vöslau\, 2540\, Österreich
CATEGORIES:Jazz
ATTACH;FMTTYPE=image/jpeg:https://www.hobiraum.at/wp-content/uploads/2023/09/DSC07521_Bertl-Mayer-Quartett.jpg
END:VEVENT
END:VCALENDAR