BEGIN:VCALENDAR
VERSION:2.0
PRODID:-//HOB i RAUM - ECPv4.6.13//NONSGML v1.0//EN
CALSCALE:GREGORIAN
METHOD:PUBLISH
X-WR-CALNAME:HOB i RAUM
X-ORIGINAL-URL:https://www.hobiraum.at
X-WR-CALDESC:Veranstaltungen für HOB i RAUM
BEGIN:VEVENT
DTSTART;TZID=Europe/Vienna:20190215T200000
DTEND;TZID=Europe/Vienna:20190215T233000
DTSTAMP:20260421T165747
CREATED:20181023T112501Z
LAST-MODIFIED:20181023T171428Z
UID:845-1550260800-1550273400@www.hobiraum.at
SUMMARY:HAUK
DESCRIPTION:\nSelten ist hierzulande mit solch herzerfrischender Leichtigkeit über die Tücken des Alltags und die Poesie des Augenblicks gesungen worden. Dabei ist das\, was der niederösterreichische Liedermacher Christoph Hauk – begleitet von Tino Klissenbauer am Akkordeon – da in eingängige Melodien verpackt\, schon etwas mehr als nur Text. Es sind mit scharfem Blick und pointiertem Witz gemalte Bilder aus dem Leben. \nBesetzung\n​Christoph Hauk – Gesang\, Gitarre\nTino Klissenbauer – Akkordeon\, Gesang \nEintritt: VVK: € 10\, AK: € 12\nTickets und Reservierungen unter tickets@hobiraum.at oder 0676/9178460. \nwww.haukmusik.at \n\n
URL:https://www.hobiraum.at/event/hauk/
LOCATION:Hanuschgasse 1/28A\, Bad Vöslau\, 2540\, Österreich
CATEGORIES:Konzert
ATTACH;FMTTYPE=image/png:https://www.hobiraum.at/wp-content/uploads/2018/10/2018-10-23-13_23_44-Band-_-hauk-Austropop-ohne-Grenzen.png
END:VEVENT
END:VCALENDAR