BEGIN:VCALENDAR
VERSION:2.0
PRODID:-//HOB i RAUM - ECPv4.6.13//NONSGML v1.0//EN
CALSCALE:GREGORIAN
METHOD:PUBLISH
X-WR-CALNAME:HOB i RAUM
X-ORIGINAL-URL:https://www.hobiraum.at
X-WR-CALDESC:Veranstaltungen für HOB i RAUM
BEGIN:VEVENT
DTSTART;TZID=Europe/Vienna:20191011T200000
DTEND;TZID=Europe/Vienna:20191011T233000
DTSTAMP:20260420T083319
CREATED:20190211T133611Z
LAST-MODIFIED:20190211T134152Z
UID:1007-1570824000-1570836600@www.hobiraum.at
SUMMARY:HONKY TONK BARFLIES
DESCRIPTION:Die Band „Honky Tonk Barflies“ besteht aus 5 Musikern\, die sich dem traditionellen R&R\, Boogie und Country der 50-Jahre verpflichtet fühlen. Alle Bandmitglieder haben jahrelange Erfahrung in den führenden R&R-\, Boogie- und Countrybands des Landes sammeln können. \nPaul Kreshka\, Sänger und Rhythmusgitarrist\, ist ein großartiger Frontman mit riesigem Songrepertoire. Der Keyboarder Hannes Otahal zählt zu den besten Boogiepianisten des Landes.\nBassist Wolfgang Hering sorgt mit sicherer „time“ für den Groove der Band.\nDabei wird er vom Drummer Ronny Frauenhofer\, der auch als Sänger agiert\, eindrucksvoll unterstützt.\nBandleader Fritz Weiß bringt sich sowohl als Gitarrist als auch als Saxophonist ein. \nEintritt: VVK: € 10\, AK: € 12\nTickets und Reservierungen unter tickets@hobiraum.at oder 0676/9178460. \n
URL:https://www.hobiraum.at/event/honky-tonk-barflies/
LOCATION:Hanuschgasse 1/28A\, Bad Vöslau\, 2540\, Österreich
CATEGORIES:Konzert
ATTACH;FMTTYPE=image/jpeg:https://www.hobiraum.at/wp-content/uploads/2019/02/image1.jpg
END:VEVENT
END:VCALENDAR