BEGIN:VCALENDAR
VERSION:2.0
PRODID:-//HOB i RAUM - ECPv4.6.13//NONSGML v1.0//EN
CALSCALE:GREGORIAN
METHOD:PUBLISH
X-WR-CALNAME:HOB i RAUM
X-ORIGINAL-URL:https://www.hobiraum.at
X-WR-CALDESC:Veranstaltungen für HOB i RAUM
BEGIN:VEVENT
DTSTART;TZID=Europe/Vienna:20190112T200000
DTEND;TZID=Europe/Vienna:20190112T233000
DTSTAMP:20260421T124559
CREATED:20181023T110134Z
LAST-MODIFIED:20181023T110134Z
UID:838-1547323200-1547335800@www.hobiraum.at
SUMMARY:KRAUT
DESCRIPTION:„Kraut“ ist ein Gemüse. Aber nicht nur ein Gemüse\, sondern auch eine Band aus dem Osten Österreichs. Wenn man nun von der Band spricht und nicht vom Gemüse wird man sehr bald erkennen\, dass Kraut komplexe Musik macht\, welche aber nicht komplex klingt. \nDas war der Gedanke beim Komponieren und Dieser ist umgesetzt worden. Kraut sind der Bandleader und Komponist Dominik Landolt am Klavier\, Dominik Reisner an der Gitarre\, Paul Gritsch am Saxophon\, Gidi Kalchhauser am Bass und Lukas Böck am Schlagzeug. Allerdings ist das nicht immer die Besetzung\, aber für ihr letztes Album „City Life“ war sie es. \nDer Kraut‐Sound ist unverkennbar. Viele verrückte Ideen sind in den musikalischen Werken eingebracht und versüßen so die Grundstruktur der einzelnen Tunes. \nAbschließend sollte einfach nur gesagt sein: Man braucht mehr Kraut im Leben. \n
URL:https://www.hobiraum.at/event/kraut/
LOCATION:Hanuschgasse 1/28A\, Bad Vöslau\, 2540\, Österreich
CATEGORIES:Konzert
ATTACH;FMTTYPE=image/jpeg:https://www.hobiraum.at/wp-content/uploads/2018/10/DOM_Cover.jpg
END:VEVENT
END:VCALENDAR