BEGIN:VCALENDAR
VERSION:2.0
PRODID:-//HOB i RAUM - ECPv4.6.13//NONSGML v1.0//EN
CALSCALE:GREGORIAN
METHOD:PUBLISH
X-WR-CALNAME:HOB i RAUM
X-ORIGINAL-URL:https://www.hobiraum.at
X-WR-CALDESC:Veranstaltungen für HOB i RAUM
BEGIN:VEVENT
DTSTART;TZID=Europe/Vienna:20190510T200000
DTEND;TZID=Europe/Vienna:20190510T233000
DTSTAMP:20260421T125913
CREATED:20181126T165941Z
LAST-MODIFIED:20190414T080054Z
UID:938-1557518400-1557531000@www.hobiraum.at
SUMMARY:SING‘ MA WAS – KARAOKE ABEND IM HOB i RAUM
DESCRIPTION:Der HOB i RAUM geht mit einem neuen Format an den Start: KARAOKE! \nDiese weltweit bekannte und äußerst beliebte Freizeitbeschäftigung nun erstmalig im\nHOB i RAUM! Unser Motto für diesen Abend: „SING‘ MA WAS“. Wolltest du schon immer mal Karaoke ausprobieren oder bist du bereits Karaoke-Profi? Viele Karaoketitel warten auf dich in der bekannt gemütlichen HOB i RAUM Atmosphäre! \nSchnapp deine besten Freunde\, reserviere einen Tisch und mach unsere Bühne zu deiner!\nAm besten auch gleich Samstag\, den 14. September vormerken… \n  \n
URL:https://www.hobiraum.at/event/mei-1-4-stund-3/
LOCATION:Hanuschgasse 1/28A\, Bad Vöslau\, 2540\, Österreich
CATEGORIES:Open Mic
ATTACH;FMTTYPE=image/jpeg:https://www.hobiraum.at/wp-content/uploads/2018/11/Karaoke.jpeg
END:VEVENT
END:VCALENDAR