BEGIN:VCALENDAR
VERSION:2.0
PRODID:-//HOB i RAUM - ECPv4.6.13//NONSGML v1.0//EN
CALSCALE:GREGORIAN
METHOD:PUBLISH
X-WR-CALNAME:HOB i RAUM
X-ORIGINAL-URL:https://www.hobiraum.at
X-WR-CALDESC:Veranstaltungen für HOB i RAUM
BEGIN:VEVENT
DTSTART;TZID=Europe/Vienna:20190111T200000
DTEND;TZID=Europe/Vienna:20190111T233000
DTSTAMP:20260421T124651
CREATED:20180328T130102Z
LAST-MODIFIED:20190111T134006Z
UID:714-1547236800-1547249400@www.hobiraum.at
SUMMARY:MEI 1/4 STUND' - LEIDER ABGESAGT!
DESCRIPTION:Leider mussten wir die 1/4 Stund‘ absagen\, weil anscheinend zu wenige Künstler an ihr Talent glauben… \nAllerdings: kommt trotzdem vorbei! Es gibt Getränke\, Musik und das gewohnt entspannte Ambiente des HOB i RAUM. \n
URL:https://www.hobiraum.at/event/mei-1-4-stund/
LOCATION:Hanuschgasse 1/28A\, Bad Vöslau\, 2540\, Österreich
CATEGORIES:Open Mic
ATTACH;FMTTYPE=image/jpeg:https://www.hobiraum.at/wp-content/uploads/2018/03/girl-945819.jpeg
END:VEVENT
END:VCALENDAR