BEGIN:VCALENDAR
VERSION:2.0
PRODID:-//HOB i RAUM - ECPv4.6.13//NONSGML v1.0//EN
CALSCALE:GREGORIAN
METHOD:PUBLISH
X-WR-CALNAME:HOB i RAUM
X-ORIGINAL-URL:https://www.hobiraum.at
X-WR-CALDESC:Veranstaltungen für HOB i RAUM
BEGIN:VEVENT
DTSTART;TZID=Europe/Vienna:20230415T200000
DTEND;TZID=Europe/Vienna:20230415T223000
DTSTAMP:20260421T080353
CREATED:20221104T100028Z
LAST-MODIFIED:20230127T110010Z
UID:2466-1681588800-1681597800@www.hobiraum.at
SUMMARY:SEAVAS KOARL FEAT. WOLFGANG LINHART
DESCRIPTION:Copyright: Clemens Fabry\nBertl Mayer – Mundharmonika\nPeter Havlicek – Gitarre\nMartin Spitzer – Gitarre\nJoschi Schneeberger – Bass\nWolfgang Linhart – Vocal \nDiese vier Musiker verbindet die Jahrelange Freundschaft und Zusammenarbeit mit dem 2017 verstorbenen Karl Hodina. Dieser war ein Wiener Musiker und Maler\, der den Jazz liebte und den Blues ins Wienerlied brachte! Als Joschi seinem Freund Karl Hodina eine Komposition widmete und fragte\, ob ihm ein Titel für diese Komposition einfällt\, antwortete er: „Nenn‘s einfach Seavas Koarl!“ \n„Geborgene Schätze“ war die letzte Aufnahme die Karl machte! Diese CD ist den Schätzen und (Genuss-) Quellen gewidmet\, die es – jetzt für uns – zu finden gilt. Also finden wir sie jetzt mit unserer neuen Gruppe! (Peter Havlicek) \nAls Verstärkung haben sich diese vier Musiker den Sänger Wolfgang Linhart eingeladen\, durch seine bluesige Stimme bekommen die Kompositionen einen neuen Sound! \nEintritt: VVK: € 20\, AK: € 25\nTickets und Reservierungen unter tickets@hobiraum.at oder 0676/9178460. \n
URL:https://www.hobiraum.at/event/seavas-koarl-feat-wolfgang-linhart/
LOCATION:Hanuschgasse 1/28A\, Bad Vöslau\, 2540\, Österreich
CATEGORIES:Konzert
ATTACH;FMTTYPE=image/jpeg:https://www.hobiraum.at/wp-content/uploads/2022/11/seawaskoarl020_s.jpg
END:VEVENT
END:VCALENDAR