BEGIN:VCALENDAR
VERSION:2.0
PRODID:-//HOB i RAUM - ECPv4.6.13//NONSGML v1.0//EN
CALSCALE:GREGORIAN
METHOD:PUBLISH
X-WR-CALNAME:HOB i RAUM
X-ORIGINAL-URL:https://www.hobiraum.at
X-WR-CALDESC:Veranstaltungen für HOB i RAUM
BEGIN:VEVENT
DTSTART;TZID=Europe/Vienna:20240113T200000
DTEND;TZID=Europe/Vienna:20240113T223000
DTSTAMP:20260421T094036
CREATED:20230906T091321Z
LAST-MODIFIED:20231114T072243Z
UID:2721-1705176000-1705185000@www.hobiraum.at
SUMMARY:THE D IS SILENT
DESCRIPTION:Copyright: The D is silent\nSilvio Wagner: Gitarre\nSantino Schneeberger: Gitarre\nThomas Zahel: Akkordeon\nFranz Oberthaler: Klarinette\nPhillip Unterreiner: Kontrabass \nDjango Reinhardt – ein Name\, der wie kein anderer für ein eigenes musikalisches Genre steht: Gypsy Jazz. Das Quintett „The D is silent“ hat sich diesem unverwechselbaren Musikstil mit aller Leidenschaft verschrieben und erweitert mit Klarinette und Akkordeon den so typischen Gitarrensound des Genres. \nDas Wiener Ensemble ist seit 2019 gemeinsam unterwegs und spielt neben Gypsy-Swing und Jazz-Standards in ihrem abwechslungsreichen Programm auch Stücke mit Latin-Einflüssen sowie von zeitgeistigen Komponisten. \nEintritt: VVK: € 25\, AK: € 30\ntickets@hobiraum.at oder 0676/9178460. \n
URL:https://www.hobiraum.at/event/the-d-is-silent/
LOCATION:Hanuschgasse 1/28A\, Bad Vöslau\, 2540\, Österreich
CATEGORIES:Gypsy Jazz
ATTACH;FMTTYPE=image/jpeg:https://www.hobiraum.at/wp-content/uploads/2023/08/PWIL0670.jpg
END:VEVENT
END:VCALENDAR