BEGIN:VCALENDAR
VERSION:2.0
PRODID:-//HOB i RAUM - ECPv4.6.13//NONSGML v1.0//EN
CALSCALE:GREGORIAN
METHOD:PUBLISH
X-WR-CALNAME:HOB i RAUM
X-ORIGINAL-URL:https://www.hobiraum.at
X-WR-CALDESC:Veranstaltungen für HOB i RAUM
BEGIN:VEVENT
DTSTART;TZID=Europe/Vienna:20190115T200000
DTEND;TZID=Europe/Vienna:20190115T233000
DTSTAMP:20260421T130833
CREATED:20181023T111359Z
LAST-MODIFIED:20181023T171453Z
UID:841-1547582400-1547595000@www.hobiraum.at
SUMMARY:TOUR RETOUR
DESCRIPTION:Austrian Jazz Ensemble with influences from all over the world has been founded in June 2018. \nAll the songs that we wanna play have one main thing in common: \nThey were written during holiday or any band tournee telling a story of a special and intimate moment or Impressions of different landscapes as for example some hidden bay or steep clipp in the South of Great Britain\, exotic gardens in Spain and Italy\, monumental beauty in Paris\, Florence\, Prague\, Berlin\, Lisboa\, Dubrovnik or even New York City\, etc. \nA cool and freshy mixture of Modern Swing\, Second Line\, Bossa Nova\, Afro Cuban\, Soft Funk\, Jazzwaltz and Ballad played by four talented\, most ambitious and professional musicians of Vienna Jazz Scene: \nALBERT REIFERT (piano\, keyboard)\nNIKO AFENTULIDIS (tenor sax\, soprano\, flute)\nGINA SCHWARZ (bass\, comp.)\nHARRY TANSCHEK (drums) \nEintritt: VVK: € 14\, AK: € 16\nTickets und Reservierungen unter tickets@hobiraum.at oder 0676/9178460. \nwww.tour-retour.com \n  \n  \n
URL:https://www.hobiraum.at/event/tour-retour/
LOCATION:Hanuschgasse 1/28A\, Bad Vöslau\, 2540\, Österreich
CATEGORIES:Konzert
ATTACH;FMTTYPE=image/png:https://www.hobiraum.at/wp-content/uploads/2018/10/TOUR-RETOUR2.pdf-Adobe-Reader.png
END:VEVENT
END:VCALENDAR