BEGIN:VCALENDAR
VERSION:2.0
PRODID:-//HOB i RAUM - ECPv4.6.13//NONSGML v1.0//EN
CALSCALE:GREGORIAN
METHOD:PUBLISH
X-WR-CALNAME:HOB i RAUM
X-ORIGINAL-URL:https://www.hobiraum.at
X-WR-CALDESC:Veranstaltungen für HOB i RAUM
BEGIN:VEVENT
DTSTART;TZID=Europe/Vienna:20181214T150000
DTEND;TZID=Europe/Vienna:20181214T200000
DTSTAMP:20260421T111625
CREATED:20181023T105731Z
LAST-MODIFIED:20181023T105731Z
UID:881-1544799600-1544817600@www.hobiraum.at
SUMMARY:WEIBERFLOHMARKT
DESCRIPTION:Der Weiberflohmarkt als Weihnachtsmarkt für alle Schnäppchenjägerinnen! Bei uns könnt ihr stöbern\, shoppen und Weihnachtsgeschenke finden. Unser Beitrag zur Nachhaltigkeit und zum Natur- und Umweltschutz! Wir hauchen unseren nicht mehr verwendeten Klamotten\, Accessoires und Mädels-Krimskrams neues Leben ein. Was dir nicht mehr gefällt oder passt\, darüber freuen sich andere. \nFür weihnachtliches Feeling mit Musik\, Punsch und selbst gemachtem Kletzenbrot ist gesorgt… \n
URL:https://www.hobiraum.at/event/weiberflohmarkt-2/
LOCATION:Hanuschgasse 1/28A\, Bad Vöslau\, 2540\, Österreich
CATEGORIES:Flohmarkt
ATTACH;FMTTYPE=image/jpeg:https://www.hobiraum.at/wp-content/uploads/2018/10/44478115_2247973412151931_5989023322346618880_n.jpg
END:VEVENT
END:VCALENDAR